BEGIN:VCALENDAR
VERSION:2.0
PRODID:icalendar-ruby
CALSCALE:GREGORIAN
METHOD:PUBLISH
BEGIN:VEVENT
DTSTAMP:20260424T173116Z
UID:9-607677@christthe116.tithelysetup5.com
DTSTART:20261018T160000Z
DTEND:20261018T170000Z
CLASS:PUBLIC
CREATED:20260424T105049
DESCRIPTION:
LAST-MODIFIED:20260424T105049
LOCATION:755 North Carolina Hwy 105 Bypass Boone\, NC 28607
SUMMARY:Potluck Sunday
URL;VALUE=URI:https://christthekingboone.com/events/potluck-sunday/2026-10-
 18
END:VEVENT
END:VCALENDAR
