BEGIN:VCALENDAR
VERSION:2.0
PRODID:icalendar-ruby
CALSCALE:GREGORIAN
METHOD:PUBLISH
BEGIN:VEVENT
DTSTAMP:20260424T202914Z
UID:9-608639@christthe116.tithelysetup5.com
DTSTART:20261101T170000Z
DTEND:20261101T180000Z
CLASS:PUBLIC
CREATED:20260424T162518
DESCRIPTION:
LAST-MODIFIED:20260424T162518
LOCATION:755 North Carolina Hwy 105 Bypass Boone\, NC 28607
SUMMARY:Potluck Sunday
URL;VALUE=URI:https://christthekingboone.com/events/potluck-sunday/2026-11-
 01
END:VEVENT
END:VCALENDAR
